BEGIN:VCALENDAR
VERSION:2.0
PRODID:-//Affinity Real Estate and Mortgage Services - ECPv6.15.20//NONSGML v1.0//EN
CALSCALE:GREGORIAN
METHOD:PUBLISH
X-ORIGINAL-URL:https://mlotrainingacademy.com
X-WR-CALDESC:Events for Affinity Real Estate and Mortgage Services
REFRESH-INTERVAL;VALUE=DURATION:PT1H
X-Robots-Tag:noindex
X-PUBLISHED-TTL:PT1H
BEGIN:VTIMEZONE
TZID:America/Los_Angeles
BEGIN:DAYLIGHT
TZOFFSETFROM:-0800
TZOFFSETTO:-0700
TZNAME:PDT
DTSTART:20250309T100000
END:DAYLIGHT
BEGIN:STANDARD
TZOFFSETFROM:-0700
TZOFFSETTO:-0800
TZNAME:PST
DTSTART:20251102T090000
END:STANDARD
BEGIN:DAYLIGHT
TZOFFSETFROM:-0800
TZOFFSETTO:-0700
TZNAME:PDT
DTSTART:20260308T100000
END:DAYLIGHT
BEGIN:STANDARD
TZOFFSETFROM:-0700
TZOFFSETTO:-0800
TZNAME:PST
DTSTART:20261101T090000
END:STANDARD
BEGIN:DAYLIGHT
TZOFFSETFROM:-0800
TZOFFSETTO:-0700
TZNAME:PDT
DTSTART:20270314T100000
END:DAYLIGHT
BEGIN:STANDARD
TZOFFSETFROM:-0700
TZOFFSETTO:-0800
TZNAME:PST
DTSTART:20271107T090000
END:STANDARD
END:VTIMEZONE
BEGIN:VEVENT
DTSTART;TZID=America/Los_Angeles:20260502T080000
DTEND;TZID=America/Los_Angeles:20260503T180000
DTSTAMP:20260419T070705
CREATED:20260407T211953Z
LAST-MODIFIED:20260409T190957Z
UID:10000400-1777708800-1777831200@mlotrainingacademy.com
SUMMARY:[RANCHO CUCAMONGA\, CA] LIVE 20 HR CA-DFPI SAFE COMPREHENSIVE: MLO COURSE 2-Day Bootcamp** May 2-3\, 2026 (Registration Ends 5/1 @ 6pm)
DESCRIPTION:Course #7662
URL:https://mlotrainingacademy.com/event/rancho-cucamonga-ca-live-20-hr-ca-dfpi-safe-comprehensive-mlo-course-2-day-bootcamp-may-2-3-2026-registration-ends-5-1-6pm/
LOCATION:Stigler Mortgage\, 10390 Commerce Center Dr. Suite #270\, Rancho Cucamonga\, CA\, 91730
CATEGORIES:Calendar of Scheduled Live In-Classroom and Live Webinar Classes,NMLS Courses
ATTACH;FMTTYPE=image/png:https://mlotrainingacademy.com/wp-content/uploads/2026/04/LIVE-IN-CLASSROOM-2-DAY-20-HR-PRE-LICENSING-COURSE-4dpeople.png
END:VEVENT
BEGIN:VEVENT
DTSTART;TZID=America/Los_Angeles:20260509T100000
DTEND;TZID=America/Los_Angeles:20260509T150000
DTSTAMP:20260419T070705
CREATED:20260407T212331Z
LAST-MODIFIED:20260407T212331Z
UID:10000401-1778320800-1778338800@mlotrainingacademy.com
SUMMARY:Live In-Person 5 Hour MLO Crash Course May 9\, 2026 (Registrations Ends 5/8 @ 6pm)
DESCRIPTION:
URL:https://mlotrainingacademy.com/event/live-in-person-5-hour-mlo-crash-course-may-9-2026-registrations-ends-5-8-6pm/
LOCATION:Stigler Mortgage\, 10390 Commerce Center Dr. Suite #270\, Rancho Cucamonga\, CA\, 91730
CATEGORIES:Calendar of Scheduled Live In-Classroom and Live Webinar Classes,LIVE NMLS Exam Prep Course
ATTACH;FMTTYPE=image/png:https://mlotrainingacademy.com/wp-content/uploads/2024/10/LIVE-IN-CLASSROOM-1-DY-5-HR-MLO-EXAM-PREP-MASTER-COURSE.png
END:VEVENT
END:VCALENDAR