BEGIN:VCALENDAR
VERSION:2.0
PRODID:-//Affinity Real Estate and Mortgage Services - ECPv6.15.20//NONSGML v1.0//EN
CALSCALE:GREGORIAN
METHOD:PUBLISH
X-ORIGINAL-URL:https://mlotrainingacademy.com
X-WR-CALDESC:Events for Affinity Real Estate and Mortgage Services
REFRESH-INTERVAL;VALUE=DURATION:PT1H
X-Robots-Tag:noindex
X-PUBLISHED-TTL:PT1H
BEGIN:VTIMEZONE
TZID:America/Los_Angeles
BEGIN:DAYLIGHT
TZOFFSETFROM:-0800
TZOFFSETTO:-0700
TZNAME:PDT
DTSTART:20250309T100000
END:DAYLIGHT
BEGIN:STANDARD
TZOFFSETFROM:-0700
TZOFFSETTO:-0800
TZNAME:PST
DTSTART:20251102T090000
END:STANDARD
BEGIN:DAYLIGHT
TZOFFSETFROM:-0800
TZOFFSETTO:-0700
TZNAME:PDT
DTSTART:20260308T100000
END:DAYLIGHT
BEGIN:STANDARD
TZOFFSETFROM:-0700
TZOFFSETTO:-0800
TZNAME:PST
DTSTART:20261101T090000
END:STANDARD
BEGIN:DAYLIGHT
TZOFFSETFROM:-0800
TZOFFSETTO:-0700
TZNAME:PDT
DTSTART:20270314T100000
END:DAYLIGHT
BEGIN:STANDARD
TZOFFSETFROM:-0700
TZOFFSETTO:-0800
TZNAME:PST
DTSTART:20271107T090000
END:STANDARD
END:VTIMEZONE
BEGIN:VEVENT
DTSTART;VALUE=DATE:20260209
DTEND;VALUE=DATE:20260210
DTSTAMP:20260420T122841
CREATED:20251219T175542Z
LAST-MODIFIED:20251219T175542Z
UID:10000310-1770595200-1770681599@mlotrainingacademy.com
SUMMARY:ONLINE NMLS 5 DAY - 20 HR CA-DFPI SAFE: COMPREHENSIVE MLO COURSE #7932 – February 9\, 2026 thru February 13\, 2026 (Registration ends 2/6 @ 6 pm (pst)
DESCRIPTION:ONLINE NMLS 5 DAY – 20 HR CA-DFPI SAFE: COMPREHENSIVE MLO COURSE #7932 – February 9\, 2026 thru February 13\, 2026 (Registration ends 2/6 @ 6 pm (pst)\n\nAffinity’s NMLS Approved is a five-day online course that requires 4-5 hours per day to complete. The course is offered every Monday–Friday. \nIf the course cannot be completed within the timeframe\, the NMLS requires retaking the 20-hour course completely.\nWe allow one free reschedule if a person is unable to take the class as it was initially scheduled.\nThe online instructor-led format allows flexibility for the student to complete the daily coursework any time of the day.\nThis course must be taken from a desktop or laptop computer. The use of mobile devices\, such as cell phones or tablets\, is prohibited by the NMLS.\nOnce enrolled – the student will receive an online login and password.\n\nThe ONLY Online NMLS 20-Hour Pre-Licensing Course that gives you Cutting-Edge Coaching AND Community –  so you can Master BOTH  Mindset AND Must-Know MLO Concepts to Ace Your NMLS SAFE Exam  –  Even if You Have No Real Estate or Prior Mortgage Experience.
URL:https://mlotrainingacademy.com/event/online-nmls-5-day-20-hr-ca-dfpi-safe-comprehensive-mlo-course-7932-february-9-2026-thru-february-13-2026-registration-ends-2-6-6-pm-pst/
LOCATION:ONLINE Self-Pace\, CA\, United States
CATEGORIES:Calendar of Scheduled Live In-Classroom and Live Webinar Classes,NMLS Courses
ATTACH;FMTTYPE=image/png:https://mlotrainingacademy.com/wp-content/uploads/2024/10/ONLINE-NMLS-5-DAY-20-HR-PRE-LICENSING-COURSE-1200-x-900-px-1.png
END:VEVENT
BEGIN:VEVENT
DTSTART;VALUE=DATE:20260202
DTEND;VALUE=DATE:20260203
DTSTAMP:20260420T122841
CREATED:20260106T051537Z
LAST-MODIFIED:20260201T224427Z
UID:10000332-1769990400-1770076799@mlotrainingacademy.com
SUMMARY:ONLINE NMLS 5 DAY - 20 HR SAFE COMPREHENSIVE: MLO COURSE # 11771 – February 2\, 2026 thru February 6\, 2026 (Registration ends 1/30 @ 6 pm (pst)
DESCRIPTION:ONLINE NMLS 5 DAY – 20 HR SAFE COMPREHENSIVE: MLO COURSE # 11771 – February 2\, 2026 thru February 6\, 2026 (Registration ends 1/30 @ 6 pm (pst)\n\nAffinity’s NMLS Approved is a five-day online course that requires 4-5 hours per day to complete. The course is offered every Monday–Friday. \nIf the course cannot be completed within the timeframe\, the NMLS requires retaking the 20-hour course completely.\nWe allow one free reschedule if a person is unable to take the class as it was initially scheduled.\nThe online instructor-led format allows flexibility for the student to complete the daily coursework any time of the day.\nThis course must be taken from a desktop or laptop computer. The use of mobile devices\, such as cell phones or tablets\, is prohibited by the NMLS.\nOnce enrolled – the student will receive an online login and password.\n\nThe ONLY Online NMLS 20-Hour Pre-Licensing Course that gives you Cutting-Edge Coaching AND Community –  so you can Master BOTH  Mindset AND Must-Know MLO Concepts to Ace Your NMLS SAFE Exam  –  Even if You Have No Real Estate or Prior Mortgage Experience.
URL:https://mlotrainingacademy.com/event/online-nmls-5-day-20-hr-safe-comprehensive-mlo-course-11771-february-2-2026-thru-february-6-2026-registration-ends-1-30-6-pm-pst/
LOCATION:ONLINE Self-Pace\, CA\, United States
CATEGORIES:Calendar of Scheduled Live In-Classroom and Live Webinar Classes,NMLS Courses
ATTACH;FMTTYPE=image/png:https://mlotrainingacademy.com/wp-content/uploads/2024/10/ONLINE-NMLS-5-DAY-20-HR-PRE-LICENSING-COURSE-1200-x-900-px-1.png
END:VEVENT
BEGIN:VEVENT
DTSTART;VALUE=DATE:20260202
DTEND;VALUE=DATE:20260203
DTSTAMP:20260420T122841
CREATED:20260106T044634Z
LAST-MODIFIED:20260116T040855Z
UID:10000328-1769990400-1770076799@mlotrainingacademy.com
SUMMARY:ONLINE NMLS 10 DAY - 20 HR SAFE COMPREHENSIVE: MORTGAGE LOAN ORIGINATOR  COURSE #11771 – February 2\, 2026\, through February 13\, 2026 (Registration ends 1/30 @ 6 pm (pst)
DESCRIPTION:ONLINE NMLS 10 DAY – 20 HR SAFE COMPREHENSIVE: MORTGAGE LOAN ORIGINATOR  COURSE #11771 – February 2\, 2026\, through February 13\, 2026 (Registration ends 1/30 @ 6 pm (pst)\n\n\n\nAffinity’s NMLS Approved is a ten-day online course that requires 2-3 hours per day to complete. The course is offered every Monday-Friday. \nIf the course cannot be completed within the time frame\, the NMLS requires retaking the 20-hour course completely.\nWe allow one free reschedule if a person is unable to take the class as it was initially scheduled.\nThe online instructor-led format allows flexibility for the student to complete the daily coursework any time of the day.\nThis course must be taken from a desktop or laptop computer. The use of mobile devices\, such as cell phones or tablets\, is prohibited by the NMLS.\n\n\n\n\nOnce enrolled – the student will receive an online login and password.\n\nThe ONLY Online NMLS 20-Hour Pre-Licensing Course that gives you Cutting-Edge Coaching AND Community –  so you can Master BOTH  Mindset AND Must-Know MLO Concepts to Ace Your NMLS SAFE Exam  –  Even if You Have No Real Estate or Prior Mortgage Experience
URL:https://mlotrainingacademy.com/event/online-nmls-10-day-20-hr-safe-comprehensive-mortgage-loan-originator-course-11771-february-2-2026-through-february-13-2026-registration-ends-1-30-6-pm-pst/
LOCATION:ONLINE Self-Pace\, CA\, United States
CATEGORIES:Calendar of Scheduled Live In-Classroom and Live Webinar Classes,NMLS Courses
ATTACH;FMTTYPE=image/png:https://mlotrainingacademy.com/wp-content/uploads/2024/10/ONLINE-NMLS-10-DAY-20-HR-PRE-LICENSING-COURSE-1200-x-900-px.png
END:VEVENT
BEGIN:VEVENT
DTSTART;VALUE=DATE:20260202
DTEND;VALUE=DATE:20260203
DTSTAMP:20260420T122841
CREATED:20251126T024525Z
LAST-MODIFIED:20251126T024553Z
UID:10000296-1769990400-1770076799@mlotrainingacademy.com
SUMMARY:ONLINE NMLS 5 DAY - 20 HR CA-DFPI SAFE: COMPREHENSIVE MLO COURSE #7932 – February 2\, 2026 thru February 6\, 2026 (Registration ends 1/30 @ 6 pm (pst)
DESCRIPTION:ONLINE NMLS 5 DAY – 20 HR CA-DFPI SAFE: COMPREHENSIVE MLO COURSE #7932 – February 2\, 2026 thru February 6\, 2026 (Registration ends 1/30 @ 6 pm (pst)\n\nAffinity’s NMLS Approved is a five-day online course that requires 4-5 hours per day to complete. The course is offered every Monday–Friday. \nIf the course cannot be completed within the timeframe\, the NMLS requires retaking the 20-hour course completely.\nWe allow one free reschedule if a person is unable to take the class as it was initially scheduled.\nThe online instructor-led format allows flexibility for the student to complete the daily coursework any time of the day.\nThis course must be taken from a desktop or laptop computer. The use of mobile devices\, such as cell phones or tablets\, is prohibited by the NMLS.\nOnce enrolled – the student will receive an online login and password.\n\nThe ONLY Online NMLS 20-Hour Pre-Licensing Course that gives you Cutting-Edge Coaching AND Community –  so you can Master BOTH  Mindset AND Must-Know MLO Concepts to Ace Your NMLS SAFE Exam  –  Even if You Have No Real Estate or Prior Mortgage Experience.
URL:https://mlotrainingacademy.com/event/online-nmls-5-day-20-hr-ca-dfpi-safe-comprehensive-mlo-course-7932-february-2-2026-thru-february-6-2026-registration-ends-1-30-6-pm-pst/
LOCATION:ONLINE Self-Pace\, CA\, United States
CATEGORIES:Calendar of Scheduled Live In-Classroom and Live Webinar Classes,NMLS Courses
ATTACH;FMTTYPE=image/png:https://mlotrainingacademy.com/wp-content/uploads/2024/10/ONLINE-NMLS-5-DAY-20-HR-PRE-LICENSING-COURSE-1200-x-900-px-1.png
END:VEVENT
BEGIN:VEVENT
DTSTART;VALUE=DATE:20260126
DTEND;VALUE=DATE:20260127
DTSTAMP:20260420T122841
CREATED:20260106T051245Z
LAST-MODIFIED:20260116T040523Z
UID:10000331-1769385600-1769471999@mlotrainingacademy.com
SUMMARY:ONLINE NMLS 5 DAY - 20 HR SAFE COMPREHENSIVE: MLO COURSE # 11771 – January 26\, 2026 thru January 30\, 2026 (Registration ends 1/23 @ 6 pm (pst)
DESCRIPTION:ONLINE NMLS 5 DAY – 20 HR SAFE COMPREHENSIVE: MLO COURSE # 11771 – January 26\, 2026 thru January 30\, 2026 (Registration ends 1/23 @ 6 pm (pst)\n\nAffinity’s NMLS Approved is a five-day online course that requires 4-5 hours per day to complete. The course is offered every Monday–Friday. \nIf the course cannot be completed within the timeframe\, the NMLS requires retaking the 20-hour course completely.\nWe allow one free reschedule if a person is unable to take the class as it was initially scheduled.\nThe online instructor-led format allows flexibility for the student to complete the daily coursework any time of the day.\nThis course must be taken from a desktop or laptop computer. The use of mobile devices\, such as cell phones or tablets\, is prohibited by the NMLS.\nOnce enrolled – the student will receive an online login and password.\n\nThe ONLY Online NMLS 20-Hour Pre-Licensing Course that gives you Cutting-Edge Coaching AND Community –  so you can Master BOTH  Mindset AND Must-Know MLO Concepts to Ace Your NMLS SAFE Exam  –  Even if You Have No Real Estate or Prior Mortgage Experience.
URL:https://mlotrainingacademy.com/event/online-nmls-5-day-20-hr-safe-comprehensive-mlo-course-11771-january-26-2026-thru-january-30-2026-registration-ends-1-23-6-pm-pst/
LOCATION:ONLINE Self-Pace\, CA\, United States
CATEGORIES:Calendar of Scheduled Live In-Classroom and Live Webinar Classes,NMLS Courses
ATTACH;FMTTYPE=image/png:https://mlotrainingacademy.com/wp-content/uploads/2024/10/ONLINE-NMLS-5-DAY-20-HR-PRE-LICENSING-COURSE-1200-x-900-px-1.png
END:VEVENT
BEGIN:VEVENT
DTSTART;VALUE=DATE:20260126
DTEND;VALUE=DATE:20260127
DTSTAMP:20260420T122841
CREATED:20260106T044048Z
LAST-MODIFIED:20260106T044228Z
UID:10000327-1769385600-1769471999@mlotrainingacademy.com
SUMMARY:ONLINE NMLS 10 DAY - 20 HR SAFE COMPREHENSIVE: MORTGAGE LOAN ORIGINATOR  COURSE #11771 – January 26\, 2026\, through February 6\, 2026 (Registration ends 1/23 @ 6 pm (pst)
DESCRIPTION:ONLINE NMLS 10 DAY – 20 HR SAFE COMPREHENSIVE: MORTGAGE LOAN ORIGINATOR  COURSE #11771 – January 26\, 2026\, through February 6\, 2026 (Registration ends 1/23 @ 6 pm (pst)\n\n\n\nAffinity’s NMLS Approved is a ten-day online course that requires 2-3 hours per day to complete. The course is offered every Monday-Friday. \nIf the course cannot be completed within the time frame\, the NMLS requires retaking the 20-hour course completely.\nWe allow one free reschedule if a person is unable to take the class as it was initially scheduled.\nThe online instructor-led format allows flexibility for the student to complete the daily coursework any time of the day.\nThis course must be taken from a desktop or laptop computer. The use of mobile devices\, such as cell phones or tablets\, is prohibited by the NMLS.\n\n\n\n\nOnce enrolled – the student will receive an online login and password.\n\nThe ONLY Online NMLS 20-Hour Pre-Licensing Course that gives you Cutting-Edge Coaching AND Community –  so you can Master BOTH  Mindset AND Must-Know MLO Concepts to Ace Your NMLS SAFE Exam  –  Even if You Have No Real Estate or Prior Mortgage Experience
URL:https://mlotrainingacademy.com/event/online-nmls-10-day-20-hr-safe-comprehensive-mortgage-loan-originator-course-11771-january-26-2026-through-february-6-2026-registration-ends-1-23-6-pm-pst-2/
LOCATION:ONLINE Self-Pace\, CA\, United States
CATEGORIES:Calendar of Scheduled Live In-Classroom and Live Webinar Classes,NMLS Courses
ATTACH;FMTTYPE=image/png:https://mlotrainingacademy.com/wp-content/uploads/2024/10/ONLINE-NMLS-10-DAY-20-HR-PRE-LICENSING-COURSE-1200-x-900-px.png
END:VEVENT
BEGIN:VEVENT
DTSTART;VALUE=DATE:20260126
DTEND;VALUE=DATE:20260127
DTSTAMP:20260420T122841
CREATED:20260106T000047Z
LAST-MODIFIED:20260116T040406Z
UID:10000319-1769385600-1769471999@mlotrainingacademy.com
SUMMARY:ONLINE NMLS 10 DAY - 20 HR SAFE COMPREHENSIVE: MORTGAGE LOAN ORIGINATOR  COURSE #11771 – January 26\, 2026\, through February 6\, 2026 (Registration ends 1/23 @ 6 pm (pst)
DESCRIPTION:ONLINE NMLS 10 DAY – 20 HR SAFE COMPREHENSIVE: MORTGAGE LOAN ORIGINATOR  COURSE #11771 – January 26\, 2026\, through February 6\, 2026 (Registration ends 1/23 @ 6 pm (pst)\n\n\n\nAffinity’s NMLS Approved is a ten-day online course that requires 2-3 hours per day to complete. The course is offered every Monday-Friday. \nIf the course cannot be completed within the time frame\, the NMLS requires retaking the 20-hour course completely.\nWe allow one free reschedule if a person is unable to take the class as it was initially scheduled.\nThe online instructor-led format allows flexibility for the student to complete the daily coursework any time of the day.\nThis course must be taken from a desktop or laptop computer. The use of mobile devices\, such as cell phones or tablets\, is prohibited by the NMLS.\n\n\n\n\nOnce enrolled – the student will receive an online login and password.\n\nThe ONLY Online NMLS 20-Hour Pre-Licensing Course that gives you Cutting-Edge Coaching AND Community –  so you can Master BOTH  Mindset AND Must-Know MLO Concepts to Ace Your NMLS SAFE Exam  –  Even if You Have No Real Estate or Prior Mortgage Experience
URL:https://mlotrainingacademy.com/event/online-nmls-10-day-20-hr-safe-comprehensive-mortgage-loan-originator-course-11771-january-26-2026-through-february-6-2026-registration-ends-1-23-6-pm-pst/
LOCATION:ONLINE Self-Pace\, CA\, United States
CATEGORIES:Calendar of Scheduled Live In-Classroom and Live Webinar Classes,NMLS Courses
ATTACH;FMTTYPE=image/png:https://mlotrainingacademy.com/wp-content/uploads/2024/10/ONLINE-NMLS-10-DAY-20-HR-PRE-LICENSING-COURSE-1200-x-900-px.png
END:VEVENT
BEGIN:VEVENT
DTSTART;VALUE=DATE:20260126
DTEND;VALUE=DATE:20260127
DTSTAMP:20260420T122841
CREATED:20251126T024048Z
LAST-MODIFIED:20251126T024048Z
UID:10000295-1769385600-1769471999@mlotrainingacademy.com
SUMMARY:ONLINE NMLS 5 DAY - 20 HR CA-DFPI SAFE: COMPREHENSIVE MLO COURSE #7932 – January 26\, 2026 thru January 30\, 2026 (Registration ends 1/23 @ 6 pm (pst)
DESCRIPTION:ONLINE NMLS 5 DAY – 20 HR CA-DFPI SAFE: COMPREHENSIVE MLO COURSE #7932 – January 26\, 2026 thru January 30\, 2026 (Registration ends 1/23 @ 6 pm (pst)\n\nAffinity’s NMLS Approved is a five-day online course that requires 4-5 hours per day to complete. The course is offered every Monday–Friday. \nIf the course cannot be completed within the timeframe\, the NMLS requires retaking the 20-hour course completely.\nWe allow one free reschedule if a person is unable to take the class as it was initially scheduled.\nThe online instructor-led format allows flexibility for the student to complete the daily coursework any time of the day.\nThis course must be taken from a desktop or laptop computer. The use of mobile devices\, such as cell phones or tablets\, is prohibited by the NMLS.\nOnce enrolled – the student will receive an online login and password.\n\nThe ONLY Online NMLS 20-Hour Pre-Licensing Course that gives you Cutting-Edge Coaching AND Community –  so you can Master BOTH  Mindset AND Must-Know MLO Concepts to Ace Your NMLS SAFE Exam  –  Even if You Have No Real Estate or Prior Mortgage Experience.
URL:https://mlotrainingacademy.com/event/online-nmls-5-day-20-hr-ca-dfpi-safe-comprehensive-mlo-course-7932-january-26-2026-thru-january-30-2026-registration-ends-1-23-6-pm-pst/
LOCATION:ONLINE Self-Pace\, CA\, United States
CATEGORIES:Calendar of Scheduled Live In-Classroom and Live Webinar Classes,NMLS Courses
ATTACH;FMTTYPE=image/png:https://mlotrainingacademy.com/wp-content/uploads/2024/10/ONLINE-NMLS-5-DAY-20-HR-PRE-LICENSING-COURSE-1200-x-900-px-1.png
END:VEVENT
BEGIN:VEVENT
DTSTART;VALUE=DATE:20260119
DTEND;VALUE=DATE:20260120
DTSTAMP:20260420T122841
CREATED:20260106T051035Z
LAST-MODIFIED:20260116T040317Z
UID:10000330-1768780800-1768867199@mlotrainingacademy.com
SUMMARY:ONLINE NMLS 5 DAY - 20 HR SAFE COMPREHENSIVE: MLO COURSE # 11771 – January 19\, 2026 thru January 23\, 2026 (Registration ends 1/16 @ 6 pm (pst)
DESCRIPTION:ONLINE NMLS 5 DAY – 20 HR SAFE COMPREHENSIVE: MLO COURSE # 11771 – January 19\, 2026 thru January 23\, 2026 (Registration ends 1/16 @ 6 pm (pst)\n\nAffinity’s NMLS Approved is a five-day online course that requires 4-5 hours per day to complete. The course is offered every Monday–Friday. \nIf the course cannot be completed within the timeframe\, the NMLS requires retaking the 20-hour course completely.\nWe allow one free reschedule if a person is unable to take the class as it was initially scheduled.\nThe online instructor-led format allows flexibility for the student to complete the daily coursework any time of the day.\nThis course must be taken from a desktop or laptop computer. The use of mobile devices\, such as cell phones or tablets\, is prohibited by the NMLS.\nOnce enrolled – the student will receive an online login and password.\n\nThe ONLY Online NMLS 20-Hour Pre-Licensing Course that gives you Cutting-Edge Coaching AND Community –  so you can Master BOTH  Mindset AND Must-Know MLO Concepts to Ace Your NMLS SAFE Exam  –  Even if You Have No Real Estate or Prior Mortgage Experience.
URL:https://mlotrainingacademy.com/event/online-nmls-5-day-20-hr-safe-comprehensive-mlo-course-11771-january-19-2026-thru-january-23-2026-registration-ends-1-16-6-pm-pst/
LOCATION:ONLINE Self-Pace\, CA\, United States
CATEGORIES:Calendar of Scheduled Live In-Classroom and Live Webinar Classes,NMLS Courses
ATTACH;FMTTYPE=image/png:https://mlotrainingacademy.com/wp-content/uploads/2024/10/ONLINE-NMLS-5-DAY-20-HR-PRE-LICENSING-COURSE-1200-x-900-px-1.png
END:VEVENT
BEGIN:VEVENT
DTSTART;VALUE=DATE:20260119
DTEND;VALUE=DATE:20260120
DTSTAMP:20260420T122841
CREATED:20260106T043735Z
LAST-MODIFIED:20260106T044051Z
UID:10000326-1768780800-1768867199@mlotrainingacademy.com
SUMMARY:ONLINE NMLS 10 DAY - 20 HR SAFE COMPREHENSIVE: MORTGAGE LOAN ORIGINATOR  COURSE #11771 – January 19\, 2026\, through January 30\, 2026 (Registration ends 1/16 @ 6 pm (pst)
DESCRIPTION:ONLINE NMLS 10 DAY – 20 HR SAFE COMPREHENSIVE: MORTGAGE LOAN ORIGINATOR  COURSE #11771 – January 19\, 2026\, through January 30\, 2026 (Registration ends 1/16 @ 6 pm (pst)\n\n\n\nAffinity’s NMLS Approved is a ten-day online course that requires 2-3 hours per day to complete. The course is offered every Monday-Friday. \nIf the course cannot be completed within the time frame\, the NMLS requires retaking the 20-hour course completely.\nWe allow one free reschedule if a person is unable to take the class as it was initially scheduled.\nThe online instructor-led format allows flexibility for the student to complete the daily coursework any time of the day.\nThis course must be taken from a desktop or laptop computer. The use of mobile devices\, such as cell phones or tablets\, is prohibited by the NMLS.\n\n\n\n\nOnce enrolled – the student will receive an online login and password.\n\nThe ONLY Online NMLS 20-Hour Pre-Licensing Course that gives you Cutting-Edge Coaching AND Community –  so you can Master BOTH  Mindset AND Must-Know MLO Concepts to Ace Your NMLS SAFE Exam  –  Even if You Have No Real Estate or Prior Mortgage Experience
URL:https://mlotrainingacademy.com/event/online-nmls-10-day-20-hr-safe-comprehensive-mortgage-loan-originator-course-11771-january-19-2026-through-january-30-2026-registration-ends-1-16-6-pm-pst-2/
LOCATION:ONLINE Self-Pace\, CA\, United States
CATEGORIES:Calendar of Scheduled Live In-Classroom and Live Webinar Classes,NMLS Courses
ATTACH;FMTTYPE=image/png:https://mlotrainingacademy.com/wp-content/uploads/2024/10/ONLINE-NMLS-10-DAY-20-HR-PRE-LICENSING-COURSE-1200-x-900-px.png
END:VEVENT
BEGIN:VEVENT
DTSTART;VALUE=DATE:20260119
DTEND;VALUE=DATE:20260120
DTSTAMP:20260420T122841
CREATED:20251126T024924Z
LAST-MODIFIED:20251126T025833Z
UID:10000297-1768780800-1768867199@mlotrainingacademy.com
SUMMARY:ONLINE NMLS 10 DAY - 20 HR CA-DFPI SAFE: COMPREHENSIVE MLO COURSE #7932 – January 19\, 2026\, through January 30\, 2026 (Registration ends 1/16 @ 6 pm (pst)
DESCRIPTION:ONLINE NMLS 10 DAY – 20 HR CA-DFPI SAFE: COMPREHENSIVE MLO COURSE #7932 – January 19\, 2026\, through January 30\, 2026 (Registration ends 1/16 @ 6 pm (pst)\n\n\n\nAffinity’s NMLS Approved is a ten-day online course that requires 2-3 hours per day to complete. The course is offered every Monday-Friday. \nIf the course cannot be completed within the time frame\, the NMLS requires retaking the 20-hour course completely.\nWe allow one free reschedule if a person is unable to take the class as it was initially scheduled.\nThe online instructor-led format allows flexibility for the student to complete the daily coursework any time of the day.\nThis course must be taken from a desktop or laptop computer. The use of mobile devices\, such as cell phones or tablets\, is prohibited by the NMLS.\n\n\n\n\nOnce enrolled – the student will receive an online login and password.\n\nThe ONLY Online NMLS 20-Hour Pre-Licensing Course that gives you Cutting-Edge Coaching AND Community –  so you can Master BOTH  Mindset AND Must-Know MLO Concepts to Ace Your NMLS SAFE Exam  –  Even if You Have No Real Estate or Prior Mortgage Experience
URL:https://mlotrainingacademy.com/event/online-nmls-10-day-20-hr-ca-dfpi-safe-comprehensive-mlo-course-7932-january-19-2026-through-january-30-2026-registration-ends-1-16-6-pm-pst/
LOCATION:ONLINE Self-Pace\, CA\, United States
CATEGORIES:Calendar of Scheduled Live In-Classroom and Live Webinar Classes,NMLS Courses
ATTACH;FMTTYPE=image/png:https://mlotrainingacademy.com/wp-content/uploads/2024/10/ONLINE-NMLS-10-DAY-20-HR-PRE-LICENSING-COURSE-1200-x-900-px.png
END:VEVENT
BEGIN:VEVENT
DTSTART;VALUE=DATE:20260119
DTEND;VALUE=DATE:20260120
DTSTAMP:20260420T122841
CREATED:20251126T023435Z
LAST-MODIFIED:20260117T194058Z
UID:10000294-1768780800-1768867199@mlotrainingacademy.com
SUMMARY:ONLINE NMLS 5 DAY - 20 HR CA-DFPI SAFE: COMPREHENSIVE MLO COURSE #7932 – January 19\, 2026 thru January 23\, 2026 (Registration ends 1/16 @ 6 pm (pst)
DESCRIPTION:ONLINE NMLS 5 DAY – 20 HR CA-DFPI SAFE: COMPREHENSIVE MLO COURSE #7932 – January 19\, 2026 thru January 23\, 2026 (Registration ends 1/16 @ 6 pm (pst)\n\nAffinity’s NMLS Approved is a five-day online course that requires 4-5 hours per day to complete. The course is offered every Monday–Friday. \nIf the course cannot be completed within the timeframe\, the NMLS requires retaking the 20-hour course completely.\nWe allow one free reschedule if a person is unable to take the class as it was initially scheduled.\nThe online instructor-led format allows flexibility for the student to complete the daily coursework any time of the day.\nThis course must be taken from a desktop or laptop computer. The use of mobile devices\, such as cell phones or tablets\, is prohibited by the NMLS.\nOnce enrolled – the student will receive an online login and password.\n\nThe ONLY Online NMLS 20-Hour Pre-Licensing Course that gives you Cutting-Edge Coaching AND Community –  so you can Master BOTH  Mindset AND Must-Know MLO Concepts to Ace Your NMLS SAFE Exam  –  Even if You Have No Real Estate or Prior Mortgage Experience.
URL:https://mlotrainingacademy.com/event/online-nmls-5-day-20-hr-ca-dfpi-safe-comprehensive-mlo-course-7932-january-19-2026-thru-january-23-2026-registration-ends-1-16-6-pm-pst/
LOCATION:ONLINE Self-Pace\, CA\, United States
CATEGORIES:Calendar of Scheduled Live In-Classroom and Live Webinar Classes,NMLS Courses
ATTACH;FMTTYPE=image/png:https://mlotrainingacademy.com/wp-content/uploads/2024/10/ONLINE-NMLS-5-DAY-20-HR-PRE-LICENSING-COURSE-1200-x-900-px-1.png
END:VEVENT
END:VCALENDAR