BEGIN:VCALENDAR
VERSION:2.0
PRODID:-//Affinity Real Estate and Mortgage Services - ECPv6.15.20//NONSGML v1.0//EN
CALSCALE:GREGORIAN
METHOD:PUBLISH
X-WR-CALNAME:Affinity Real Estate and Mortgage Services
X-ORIGINAL-URL:https://mlotrainingacademy.com
X-WR-CALDESC:Events for Affinity Real Estate and Mortgage Services
REFRESH-INTERVAL;VALUE=DURATION:PT1H
X-Robots-Tag:noindex
X-PUBLISHED-TTL:PT1H
BEGIN:VTIMEZONE
TZID:America/Los_Angeles
BEGIN:DAYLIGHT
TZOFFSETFROM:-0800
TZOFFSETTO:-0700
TZNAME:PDT
DTSTART:20250309T100000
END:DAYLIGHT
BEGIN:STANDARD
TZOFFSETFROM:-0700
TZOFFSETTO:-0800
TZNAME:PST
DTSTART:20251102T090000
END:STANDARD
BEGIN:DAYLIGHT
TZOFFSETFROM:-0800
TZOFFSETTO:-0700
TZNAME:PDT
DTSTART:20260308T100000
END:DAYLIGHT
BEGIN:STANDARD
TZOFFSETFROM:-0700
TZOFFSETTO:-0800
TZNAME:PST
DTSTART:20261101T090000
END:STANDARD
BEGIN:DAYLIGHT
TZOFFSETFROM:-0800
TZOFFSETTO:-0700
TZNAME:PDT
DTSTART:20270314T100000
END:DAYLIGHT
BEGIN:STANDARD
TZOFFSETFROM:-0700
TZOFFSETTO:-0800
TZNAME:PST
DTSTART:20271107T090000
END:STANDARD
END:VTIMEZONE
BEGIN:VEVENT
DTSTART;TZID=America/Los_Angeles:20260425T100000
DTEND;TZID=America/Los_Angeles:20260425T150000
DTSTAMP:20260425T113945
CREATED:20260408T173637Z
LAST-MODIFIED:20260408T173637Z
UID:10000402-1777111200-1777129200@mlotrainingacademy.com
SUMMARY:Live In-Person 5 Hour MLO Crash Course April 25\, 2026 (Registrations Ends 4/24 @ 6pm)
DESCRIPTION:
URL:https://mlotrainingacademy.com/event/live-in-person-5-hour-mlo-crash-course-april-25-2026-registrations-ends-4-24-6pm/
LOCATION:Laguna Hills\, 23330 Mill Creek Dr.\, Laguna Hills\, CA\, 92653\, United States
CATEGORIES:Calendar of Scheduled Live In-Classroom and Live Webinar Classes,LIVE NMLS Exam Prep Course
ATTACH;FMTTYPE=image/png:https://mlotrainingacademy.com/wp-content/uploads/2024/10/LIVE-IN-CLASSROOM-1-DY-5-HR-MLO-EXAM-PREP-MASTER-COURSE.png
END:VEVENT
END:VCALENDAR